BEGIN:VCALENDAR
VERSION:2.0
PRODID:-//SeniorNet Solna-Sundbyberg - ECPv6.15.20//NONSGML v1.0//EN
CALSCALE:GREGORIAN
METHOD:PUBLISH
X-ORIGINAL-URL:https://solna-sundbyberg.seniornet.se
X-WR-CALDESC:Events for SeniorNet Solna-Sundbyberg
REFRESH-INTERVAL;VALUE=DURATION:PT1H
X-Robots-Tag:noindex
X-PUBLISHED-TTL:PT1H
BEGIN:VTIMEZONE
TZID:Europe/Stockholm
BEGIN:DAYLIGHT
TZOFFSETFROM:+0100
TZOFFSETTO:+0200
TZNAME:CEST
DTSTART:20250330T010000
END:DAYLIGHT
BEGIN:STANDARD
TZOFFSETFROM:+0200
TZOFFSETTO:+0100
TZNAME:CET
DTSTART:20251026T010000
END:STANDARD
BEGIN:DAYLIGHT
TZOFFSETFROM:+0100
TZOFFSETTO:+0200
TZNAME:CEST
DTSTART:20260329T010000
END:DAYLIGHT
BEGIN:STANDARD
TZOFFSETFROM:+0200
TZOFFSETTO:+0100
TZNAME:CET
DTSTART:20261025T010000
END:STANDARD
BEGIN:DAYLIGHT
TZOFFSETFROM:+0100
TZOFFSETTO:+0200
TZNAME:CEST
DTSTART:20270328T010000
END:DAYLIGHT
BEGIN:STANDARD
TZOFFSETFROM:+0200
TZOFFSETTO:+0100
TZNAME:CET
DTSTART:20271031T010000
END:STANDARD
END:VTIMEZONE
BEGIN:VEVENT
DTSTART;TZID=Europe/Stockholm:20260520T130000
DTEND;TZID=Europe/Stockholm:20260520T150000
DTSTAMP:20260425T144951
CREATED:20251209T144035Z
LAST-MODIFIED:20260225T143823Z
UID:2762-1779282000-1779289200@solna-sundbyberg.seniornet.se
SUMMARY:Föreläsning angående artificiell intelligens\, AI
DESCRIPTION:Välkommen till en intressant föreläsning om AI med Björn Appelgren från Internetstiftelsen. \nFöreläsningen kommer att äga rum i gamla Folkets hus i Sundbyberg. \nMer information kommer senare.
URL:https://solna-sundbyberg.seniornet.se/event/sista-dagen-for-att-skicka-en-motion-till-arsmotet/
END:VEVENT
END:VCALENDAR