BEGIN:VCALENDAR
VERSION:2.0
PRODID:-//SeniorNet Solna-Sundbyberg - ECPv6.15.20//NONSGML v1.0//EN
CALSCALE:GREGORIAN
METHOD:PUBLISH
X-ORIGINAL-URL:https://solna-sundbyberg.seniornet.se
X-WR-CALDESC:Events for SeniorNet Solna-Sundbyberg
REFRESH-INTERVAL;VALUE=DURATION:PT1H
X-Robots-Tag:noindex
X-PUBLISHED-TTL:PT1H
BEGIN:VTIMEZONE
TZID:Europe/Stockholm
BEGIN:DAYLIGHT
TZOFFSETFROM:+0100
TZOFFSETTO:+0200
TZNAME:CEST
DTSTART:20250330T010000
END:DAYLIGHT
BEGIN:STANDARD
TZOFFSETFROM:+0200
TZOFFSETTO:+0100
TZNAME:CET
DTSTART:20251026T010000
END:STANDARD
BEGIN:DAYLIGHT
TZOFFSETFROM:+0100
TZOFFSETTO:+0200
TZNAME:CEST
DTSTART:20260329T010000
END:DAYLIGHT
BEGIN:STANDARD
TZOFFSETFROM:+0200
TZOFFSETTO:+0100
TZNAME:CET
DTSTART:20261025T010000
END:STANDARD
BEGIN:DAYLIGHT
TZOFFSETFROM:+0100
TZOFFSETTO:+0200
TZNAME:CEST
DTSTART:20270328T010000
END:DAYLIGHT
BEGIN:STANDARD
TZOFFSETFROM:+0200
TZOFFSETTO:+0100
TZNAME:CET
DTSTART:20271031T010000
END:STANDARD
END:VTIMEZONE
BEGIN:VEVENT
DTSTART;TZID=Europe/Stockholm:20260416T130000
DTEND;TZID=Europe/Stockholm:20260416T150000
DTSTAMP:20260424T213008
CREATED:20240218T092313Z
LAST-MODIFIED:20260310T074348Z
UID:2411-1776344400-1776351600@solna-sundbyberg.seniornet.se
SUMMARY:Besök på Sundbybergs stadsmuseum
DESCRIPTION:Välkommen till Sundbybergs stadsmuseum. Vi får en guidad tur på museet av Olle Myrberg som har hjälpt till länge på museet och kan mycket om Sundbybergs historia. Efter den guidade turen finns möjlighet att stanna kvar och ta en fika tillsammans.\nEvenemanget kostar ingenting.\n\nTid: torsdag 16 april kl 13.00\nPlats: Fredsgatan 4 Sundbyberg\nDet är begränsat antal platser så anmäl er till solnasundbyberg.seniornet@gmail.com om ni vill vara med.\n\nVälkomna\nStyrelsen Seniornet Solna Sundbyberg\n\n\n\n\n\n\n\n 
URL:https://solna-sundbyberg.seniornet.se/event/kallkritikens-dag-2024-03-13/
END:VEVENT
BEGIN:VEVENT
DTSTART;TZID=Europe/Stockholm:20260427T110000
DTEND;TZID=Europe/Stockholm:20260427T130000
DTSTAMP:20260424T213008
CREATED:20221021T143727Z
LAST-MODIFIED:20260401T135720Z
UID:2065-1777287600-1777294800@solna-sundbyberg.seniornet.se
SUMMARY:Ny kurs för dig med med Androidtelefon som Samsung eller liknande
DESCRIPTION:Kursen är för dig som har en Samsung-telefon eller liknande telefon och inte använt det tidigare eller bara använder den till att ringa och skicka och ta emot SMS. På kursen får du lära dig fler nyttiga funktioner som kan hjälpa dig i vardagslivet. \nKursen hålls vid fem tillfällen på måndagar.\nOBS! Första tillfället är 27 april kl 11-13\n4 maj 13-15\n11 maj 13-15\n18 maj 13-15\n25 maj 13-15\n\nKursen kostar 200 kr som betalas till bankgiro 5686-4119\nAnmälan görs till solnasundbyberg.seniornet@gmail.com eller till Britt Inger Salliander på tfn 070-202 40 83 \nKursledare är Jacqueline Valderrama
URL:https://solna-sundbyberg.seniornet.se/event/slaktforskning-digitalt/
END:VEVENT
BEGIN:VEVENT
DTSTART;TZID=Europe/Stockholm:20260520T130000
DTEND;TZID=Europe/Stockholm:20260520T150000
DTSTAMP:20260424T213008
CREATED:20251209T144035Z
LAST-MODIFIED:20260225T143823Z
UID:2762-1779282000-1779289200@solna-sundbyberg.seniornet.se
SUMMARY:Föreläsning angående artificiell intelligens\, AI
DESCRIPTION:Välkommen till en intressant föreläsning om AI med Björn Appelgren från Internetstiftelsen. \nFöreläsningen kommer att äga rum i gamla Folkets hus i Sundbyberg. \nMer information kommer senare.
URL:https://solna-sundbyberg.seniornet.se/event/sista-dagen-for-att-skicka-en-motion-till-arsmotet/
END:VEVENT
END:VCALENDAR