BEGIN:VCALENDAR
VERSION:2.0
PRODID:-//SeniorNet Solna-Sundbyberg - ECPv6.15.20//NONSGML v1.0//EN
CALSCALE:GREGORIAN
METHOD:PUBLISH
X-ORIGINAL-URL:https://solna-sundbyberg.seniornet.se
X-WR-CALDESC:Events for SeniorNet Solna-Sundbyberg
REFRESH-INTERVAL;VALUE=DURATION:PT1H
X-Robots-Tag:noindex
X-PUBLISHED-TTL:PT1H
BEGIN:VTIMEZONE
TZID:Europe/Stockholm
BEGIN:DAYLIGHT
TZOFFSETFROM:+0100
TZOFFSETTO:+0200
TZNAME:CEST
DTSTART:20250330T010000
END:DAYLIGHT
BEGIN:STANDARD
TZOFFSETFROM:+0200
TZOFFSETTO:+0100
TZNAME:CET
DTSTART:20251026T010000
END:STANDARD
BEGIN:DAYLIGHT
TZOFFSETFROM:+0100
TZOFFSETTO:+0200
TZNAME:CEST
DTSTART:20260329T010000
END:DAYLIGHT
BEGIN:STANDARD
TZOFFSETFROM:+0200
TZOFFSETTO:+0100
TZNAME:CET
DTSTART:20261025T010000
END:STANDARD
BEGIN:DAYLIGHT
TZOFFSETFROM:+0100
TZOFFSETTO:+0200
TZNAME:CEST
DTSTART:20270328T010000
END:DAYLIGHT
BEGIN:STANDARD
TZOFFSETFROM:+0200
TZOFFSETTO:+0100
TZNAME:CET
DTSTART:20271031T010000
END:STANDARD
END:VTIMEZONE
BEGIN:VEVENT
DTSTART;TZID=Europe/Stockholm:20260410T100000
DTEND;TZID=Europe/Stockholm:20260410T113000
DTSTAMP:20260424T182348
CREATED:20260401T141226Z
LAST-MODIFIED:20260401T141226Z
UID:2863-1775815200-1775820600@solna-sundbyberg.seniornet.se
SUMMARY:Inbjudan till medlemsseminarium 10/4 - Så bevarar man digitala bilder med Martin Ståhl
DESCRIPTION:Varmt välkommen till vårt digitala medlemsseminarium \nSå bevarar man digitala bilder!\nMartin Ståhl\, kommunarkivarie i Tyresö kommun\, ger en kort kortversion av en kurs för föreningsarkivarier. \nNär :   10 april 2026 klockan 10.00 – 11.30 med en kort paus.\nPlats:  Digitalt via Zoom\nLänk:  https://us06web.zoom.us/j/88519875713\n\nIngen anmälan. Du har länken här i inbjudan. Du kan koppla upp dig från klockan 09.30.\nOm du behöver hjälp med inloggningen kontakta gärna din lokala förening i förväg.\n\nArrangör: Utskottet för verksamhetsutveckling (UV)\n\nInger Gran\nOrdförande\nSeniorNet Sweden
URL:https://solna-sundbyberg.seniornet.se/event/inbjudan-till-medlemsseminarium-10-4-sa-bevarar-man-digitala-bilder-med-martin-stahl/
END:VEVENT
END:VCALENDAR