BEGIN:VCALENDAR
VERSION:2.0
PRODID:-//SeniorNet Solna-Sundbyberg - ECPv6.15.20//NONSGML v1.0//EN
CALSCALE:GREGORIAN
METHOD:PUBLISH
X-WR-CALNAME:SeniorNet Solna-Sundbyberg
X-ORIGINAL-URL:https://solna-sundbyberg.seniornet.se
X-WR-CALDESC:Events for SeniorNet Solna-Sundbyberg
REFRESH-INTERVAL;VALUE=DURATION:PT1H
X-Robots-Tag:noindex
X-PUBLISHED-TTL:PT1H
BEGIN:VTIMEZONE
TZID:Europe/Stockholm
BEGIN:DAYLIGHT
TZOFFSETFROM:+0100
TZOFFSETTO:+0200
TZNAME:CEST
DTSTART:20250330T010000
END:DAYLIGHT
BEGIN:STANDARD
TZOFFSETFROM:+0200
TZOFFSETTO:+0100
TZNAME:CET
DTSTART:20251026T010000
END:STANDARD
BEGIN:DAYLIGHT
TZOFFSETFROM:+0100
TZOFFSETTO:+0200
TZNAME:CEST
DTSTART:20260329T010000
END:DAYLIGHT
BEGIN:STANDARD
TZOFFSETFROM:+0200
TZOFFSETTO:+0100
TZNAME:CET
DTSTART:20261025T010000
END:STANDARD
BEGIN:DAYLIGHT
TZOFFSETFROM:+0100
TZOFFSETTO:+0200
TZNAME:CEST
DTSTART:20270328T010000
END:DAYLIGHT
BEGIN:STANDARD
TZOFFSETFROM:+0200
TZOFFSETTO:+0100
TZNAME:CET
DTSTART:20271031T010000
END:STANDARD
END:VTIMEZONE
BEGIN:VEVENT
DTSTART;TZID=Europe/Stockholm:20260409T130000
DTEND;TZID=Europe/Stockholm:20260409T150000
DTSTAMP:20260424T182326
CREATED:20250830T061758Z
LAST-MODIFIED:20260205T143134Z
UID:2632-1775739600-1775746800@solna-sundbyberg.seniornet.se
SUMMARY:Ipadkurs börjar
DESCRIPTION:För att anmäla dig till kursen behöver du vara medlem i SeniorNet Solna-Sundbyberg. Om du inte är det kan du klicka på länken och fylla i dina uppgifter https://seniornet.se/medlemskap/medlemsregistrering/\nKursen är till för dig som har en Ipad men vill lära dig mer om vad du kan använda den till eller om du nyss köpt en ny och vill ha hjälp med att komma igång och använda den. \nStart torsdag 9 april kl 13-15\, 6 tillfällen under april.\nKursen kostar 200 kr som betalas till bankgiro 5686-4119\nEn Prova på-kurs ingår\, där man har möjlighet att låna en iPad under de första lektionerna.\nKursledare är Hans Eriksson\nAnmälan görs till Lisen Jones tfn 079-354 20 72 eller solnasundbyberg.seniornet@gmail.com \nOBS! Kursen äger rum i Kulturcentrum\, Hallonbergens centrum\, plan 1 en trappa upp från gatuplanet.
URL:https://solna-sundbyberg.seniornet.se/event/digitalt-event-rustar-dig-mot-bedragare/
END:VEVENT
END:VCALENDAR